BEGIN:VCALENDAR
CALSCALE:GREGORIAN
METHOD:PUBLISH
PRODID:-//5.199.133.97//NONSGML iCalcreator 2.6//
VERSION:2.0
UNIQUE_ID:event664@Йога секреты
X-WR-TIMEZONE:Asia/Baku
BEGIN:VEVENT
UID:event664@Йога секреты
DTSTAMP:20260421T172105Z
CATEGORIES:Практикум
DESCRIPTION:Кали Марафон с Лялей Шанти\nТип соб
 ытия: Практикум\nСсылка: https://yogasecrets.ru/index.p
 hp?option=com_eventlist&view=details&id=664:----&Itemid=117\n
DTSTART;TZID=Asia/Baku:20140601T070000
DTEND;TZID=Asia/Baku:20140621T081500
LOCATION:
SUMMARY:Кали Марафон с Лялей Шанти
URL:https://yogasecrets.ru/index.php?option=com_eventlist&view=details&id=6
 64:----&Itemid=117
END:VEVENT
END:VCALENDAR
