BEGIN:VCALENDAR
CALSCALE:GREGORIAN
METHOD:PUBLISH
PRODID:-//5.199.133.97//NONSGML iCalcreator 2.6//
VERSION:2.0
UNIQUE_ID:event666@Йога секреты
X-WR-TIMEZONE:Asia/Baku
BEGIN:VEVENT
UID:event666@Йога секреты
DTSTAMP:20260421T172400Z
CATEGORIES:Практикум
DESCRIPTION:Диагностика по марма-точкам и марм
 а-массаж с 5 по 20 июня в\nТип события: Прак
 икум\nСсылка: https://yogasecrets.ru/index.php?option=com_event
 list&view=details&id=666:--------5--20--&Itemid=117\n
DTSTART;VALUE=DATE:20140605
DTEND;VALUE=DATE:20140621
LOCATION:Центр аюрведы и йоги 'Керала'\,Мичури
 нский проспект\,3\,Москва\,Russian Federation
SUMMARY:Диагностика по марма-точкам и марма-
 ассаж с 5 по 20 июня в
URL:https://yogasecrets.ru/index.php?option=com_eventlist&view=details&id=6
 66:--------5--20--&Itemid=117
END:VEVENT
END:VCALENDAR
