BEGIN:VCALENDAR
CALSCALE:GREGORIAN
METHOD:PUBLISH
PRODID:-//5.199.133.97//NONSGML iCalcreator 2.6//
VERSION:2.0
UNIQUE_ID:event670@Йога секреты
X-WR-TIMEZONE:Asia/Baku
BEGIN:VEVENT
UID:event670@Йога секреты
DTSTAMP:20260421T172126Z
CATEGORIES:Практикум
DESCRIPTION:Курс «Сила и стройность» с Баблу М
 риком с 26 мая\nТип события: Практикум\nСс
 лка: https://yogasecrets.ru/index.php?option=com_eventlist&view=detail
 s&id=670:-l--r-----26-&Itemid=117\n
DTSTART;VALUE=DATE:20140526
DTEND;VALUE=DATE:20140708
LOCATION:Центр 'Керала'\,Мичуринский проезд\, 
 ом 3 \,Москва
SUMMARY:Курс «Сила и стройность» с Баблу Мар
 ком с 26 мая
URL:https://yogasecrets.ru/index.php?option=com_eventlist&view=details&id=6
 70:-l--r-----26-&Itemid=117
END:VEVENT
END:VCALENDAR
