BEGIN:VCALENDAR
CALSCALE:GREGORIAN
METHOD:PUBLISH
PRODID:-//5.199.133.97//NONSGML iCalcreator 2.6//
VERSION:2.0
UNIQUE_ID:event671@Йога секреты
X-WR-TIMEZONE:Asia/Baku
BEGIN:VEVENT
UID:event671@Йога секреты
DTSTAMP:20260421T172125Z
CATEGORIES:Практикум
DESCRIPTION:Джапа 'Изменить судьбу с Джап Джи'\n
 Тип события: Практикум\nСсылка: https://yogasecre
 ts.ru/index.php?option=com_eventlist&view=details&id=671:-q----q&Itemid=11
 7\n
DTSTART;TZID=Asia/Baku:20140517T090000
DTEND;TZID=Asia/Baku:20140517T140000
LOCATION:Даша Каболова. Йога и целение\,Москв
 \,Russian Federation
SUMMARY:Джапа 'Изменить судьбу с Джап Джи'
URL:https://yogasecrets.ru/index.php?option=com_eventlist&view=details&id=6
 71:-q----q&Itemid=117
END:VEVENT
END:VCALENDAR
