BEGIN:VCALENDAR
CALSCALE:GREGORIAN
METHOD:PUBLISH
PRODID:-//5.199.133.97//NONSGML iCalcreator 2.6//
VERSION:2.0
UNIQUE_ID:event678@Йога секреты
X-WR-TIMEZONE:Asia/Baku
BEGIN:VEVENT
UID:event678@Йога секреты
DTSTAMP:20260421T172259Z
CATEGORIES:Практикум
DESCRIPTION:Йога тур на море в выходные в июне\n
 Тип события: Практикум\nСсылка: https://yogasecre
 ts.ru/index.php?option=com_eventlist&view=details&id=678:-------&Itemid=11
 7\n
DTSTART;TZID=Asia/Baku:20140606T060000
DTEND;TZID=Asia/Baku:20140615T190000
LOCATION:
SUMMARY:Йога тур на море в выходные в июне
URL:https://yogasecrets.ru/index.php?option=com_eventlist&view=details&id=6
 78:-------&Itemid=117
END:VEVENT
END:VCALENDAR
