BEGIN:VCALENDAR
CALSCALE:GREGORIAN
METHOD:PUBLISH
PRODID:-//5.199.133.97//NONSGML iCalcreator 2.6//
VERSION:2.0
UNIQUE_ID:event682@Йога секреты
X-WR-TIMEZONE:Asia/Baku
BEGIN:VEVENT
UID:event682@Йога секреты
DTSTAMP:20260421T185818Z
CATEGORIES:Практикум
DESCRIPTION:Йога-тур на море по ускоренному по
 удению.\nТип события: Практикум\nСсылка: h
 ttps://yogasecrets.ru/index.php?option=com_eventlist&view=details&id=682:-
 -----&Itemid=117\n
DTSTART;VALUE=DATE:20140714
DTEND;VALUE=DATE:20140724
LOCATION:Академия 'Йога Юга'\,пос Южный\,Туапс
 \, пос. Южный\,Russian Federation
SUMMARY:Йога-тур на море по ускоренному поху
 ению.
URL:https://yogasecrets.ru/index.php?option=com_eventlist&view=details&id=6
 82:------&Itemid=117
END:VEVENT
END:VCALENDAR
