BEGIN:VCALENDAR
CALSCALE:GREGORIAN
METHOD:PUBLISH
PRODID:-//5.199.133.97//NONSGML iCalcreator 2.6//
VERSION:2.0
UNIQUE_ID:event687@Йога секреты
X-WR-TIMEZONE:Asia/Baku
BEGIN:VEVENT
UID:event687@Йога секреты
DTSTAMP:20260421T172428Z
CATEGORIES:Практикум
DESCRIPTION:'ЙОГА. ПУТЬ ЖЕНЩИНЫ' - йога тур в Кры
 м  \ 15000 рублей \\nТип события: Практикум\nС
 ылка: https://yogasecrets.ru/index.php?option=com_eventlist&view=deta
 ils&id=687:q--q------15000--&Itemid=117\n
DTSTART;VALUE=DATE:20140630
DTEND;VALUE=DATE:20140710
LOCATION:Крым\, пос.Андреевка\, 'Лето'\,Усадебн
 я\,пос.Андреевка\,Russian Federation
SUMMARY:'ЙОГА. ПУТЬ ЖЕНЩИНЫ' - йога тур в Крым  
 \ 15000 рублей \
URL:https://yogasecrets.ru/index.php?option=com_eventlist&view=details&id=6
 87:q--q------15000--&Itemid=117
END:VEVENT
END:VCALENDAR
