BEGIN:VCALENDAR
CALSCALE:GREGORIAN
METHOD:PUBLISH
PRODID:-//5.199.133.97//NONSGML iCalcreator 2.6//
VERSION:2.0
UNIQUE_ID:event694@Йога секреты
X-WR-TIMEZONE:Asia/Baku
BEGIN:VEVENT
UID:event694@Йога секреты
DTSTAMP:20260421T172428Z
CATEGORIES:Практикум
DESCRIPTION:Джапа 'Привлечение родственной ду
 и и гармоничные отношения'\nТип события: 
 Практикум\nСсылка: https://yogasecrets.ru/index.php?option=
 com_eventlist&view=details&id=694:-q-----q&Itemid=117\n
DTSTART;TZID=Asia/Baku:20140621T070000
DTEND;TZID=Asia/Baku:20140622T210000
LOCATION:Даша Каболова. Йога и целение\,Москв
 \,Russian Federation
SUMMARY:Джапа 'Привлечение родственной души 
 и гармоничные отношения'
URL:https://yogasecrets.ru/index.php?option=com_eventlist&view=details&id=6
 94:-q-----q&Itemid=117
END:VEVENT
END:VCALENDAR
