BEGIN:VCALENDAR
CALSCALE:GREGORIAN
METHOD:PUBLISH
PRODID:-//5.199.133.97//NONSGML iCalcreator 2.6//
VERSION:2.0
UNIQUE_ID:event703@Йога секреты
X-WR-TIMEZONE:Asia/Baku
BEGIN:VEVENT
UID:event703@Йога секреты
DTSTAMP:20260421T203721Z
CATEGORIES:Практикум
DESCRIPTION:«Сделай 108 Сурья намаскар» со Свет
 аной Селиховой\nТип события: Практикум\n
 сылка: https://yogasecrets.ru/index.php?option=com_eventlist&view=de
 tails&id=703:l-108--r---&Itemid=117\n
DTSTART;TZID=Asia/Baku:20140719T100000
DTEND;TZID=Asia/Baku:20140719T120000
LOCATION:Школа Каула йоги м. Семеновская\,Сем
 новская площадь\, д. 7\,Москва\,Russian Federation
SUMMARY:«Сделай 108 Сурья намаскар» со Светла
 ой Селиховой
URL:https://yogasecrets.ru/index.php?option=com_eventlist&view=details&id=7
 03:l-108--r---&Itemid=117
END:VEVENT
END:VCALENDAR
