BEGIN:VCALENDAR
CALSCALE:GREGORIAN
METHOD:PUBLISH
PRODID:-//5.199.133.97//NONSGML iCalcreator 2.6//
VERSION:2.0
UNIQUE_ID:event704@Йога секреты
X-WR-TIMEZONE:Asia/Baku
BEGIN:VEVENT
UID:event704@Йога секреты
DTSTAMP:20260421T203721Z
CATEGORIES:Практикум
DESCRIPTION:Каула-интенсив «Второй центр»\nТип
  события: Практикум\nСсылка: https://yogasecrets.ru/
 index.php?option=com_eventlist&view=details&id=704:--l-r&Itemid=117\n
DTSTART;TZID=Asia/Baku:20140724T200000
DTEND;TZID=Asia/Baku:20140724T230000
LOCATION:Школа Каула йоги м. Семеновская\,Сем
 новская площадь\, д. 7\,Москва\,Russian Federation
SUMMARY:Каула-интенсив «Второй центр»
URL:https://yogasecrets.ru/index.php?option=com_eventlist&view=details&id=7
 04:--l-r&Itemid=117
END:VEVENT
END:VCALENDAR
