BEGIN:VCALENDAR
CALSCALE:GREGORIAN
METHOD:PUBLISH
PRODID:-//5.199.133.97//NONSGML iCalcreator 2.6//
VERSION:2.0
UNIQUE_ID:event709@Йога секреты
X-WR-TIMEZONE:Asia/Baku
BEGIN:VEVENT
UID:event709@Йога секреты
DTSTAMP:20260421T203809Z
CATEGORIES:Практикум
DESCRIPTION:Каула-интенсив «Тара — освобожден
 ие» с Ильей Дунаевским\nТип события: Прак
 тикум\nСсылка: https://yogasecrets.ru/index.php?option=com_even
 tlist&view=details&id=709:--l--r---&Itemid=117\n
DTSTART;TZID=Asia/Baku:20140828T200000
DTEND;TZID=Asia/Baku:20140828T230000
LOCATION:Школа Каула йоги м. Семеновская\,Сем
 новская площадь\, д. 7\,Москва\,Russian Federation
SUMMARY:Каула-интенсив «Тара — освобождение
 » с Ильей Дунаевским
URL:https://yogasecrets.ru/index.php?option=com_eventlist&view=details&id=7
 09:--l--r---&Itemid=117
END:VEVENT
END:VCALENDAR
