BEGIN:VCALENDAR
CALSCALE:GREGORIAN
METHOD:PUBLISH
PRODID:-//5.199.133.97//NONSGML iCalcreator 2.6//
VERSION:2.0
UNIQUE_ID:event730@Йога секреты
X-WR-TIMEZONE:Asia/Baku
BEGIN:VEVENT
UID:event730@Йога секреты
DTSTAMP:20260421T204655Z
CATEGORIES:Практикум
DESCRIPTION:Джапа 'Bhauta Karam' (Богатство и Удача) с
  Дашей Каболовой\nТип события: Практикум
 \nСсылка: https://yogasecrets.ru/index.php?option=com_eventlist&view
 =details&id=730:-qbhauta-karamq------&Itemid=117\n
DTSTART;TZID=Asia/Baku:20140803T070000
DTEND;TZID=Asia/Baku:20140803T210000
LOCATION:Даша Каболова. Йога и целение\,Москв
 \,Russian Federation
SUMMARY:Джапа 'Bhauta Karam' (Богатство и Удача) с Д
 шей Каболовой
URL:https://yogasecrets.ru/index.php?option=com_eventlist&view=details&id=7
 30:-qbhauta-karamq------&Itemid=117
END:VEVENT
END:VCALENDAR
