BEGIN:VCALENDAR
CALSCALE:GREGORIAN
METHOD:PUBLISH
PRODID:-//5.199.133.97//NONSGML iCalcreator 2.6//
VERSION:2.0
UNIQUE_ID:event731@Йога секреты
X-WR-TIMEZONE:Asia/Baku
BEGIN:VEVENT
UID:event731@Йога секреты
DTSTAMP:20260421T203722Z
CATEGORIES:Практикум
DESCRIPTION:Breath Walk в Парке Сокольники\nТип собы
 тия: Практикум\nСсылка: https://yogasecrets.ru/index.php
 ?option=com_eventlist&view=details&id=731:breath-walk---&Itemid=117\n
DTSTART;TZID=Asia/Baku:20140731T193000
DTEND;TZID=Asia/Baku:20140731T210000
LOCATION:Даша Каболова. Йога и целение\,Москв
 \,Russian Federation
SUMMARY:Breath Walk в Парке Сокольники
URL:https://yogasecrets.ru/index.php?option=com_eventlist&view=details&id=7
 31:breath-walk---&Itemid=117
END:VEVENT
END:VCALENDAR
