BEGIN:VCALENDAR
CALSCALE:GREGORIAN
METHOD:PUBLISH
PRODID:-//5.199.133.97//NONSGML iCalcreator 2.6//
VERSION:2.0
UNIQUE_ID:event742@Йога секреты
X-WR-TIMEZONE:Asia/Baku
BEGIN:VEVENT
UID:event742@Йога секреты
DTSTAMP:20260421T203943Z
CATEGORIES:Практикум
DESCRIPTION:Кундалини йога-тур с Ашотом Тенежь
 яном\nТип события: Практикум\nСсылка: https:/
 /yogasecrets.ru/index.php?option=com_eventlist&view=details&id=742:-----&I
 temid=117\n
DTSTART;VALUE=DATE:20140825
DTEND;VALUE=DATE:20140901
LOCATION:Академия 'Йога Юга'\,пос Южный\,Туапс
 \, пос. Южный\,Russian Federation
SUMMARY:Кундалини йога-тур с Ашотом Тенежьян
 ом
URL:https://yogasecrets.ru/index.php?option=com_eventlist&view=details&id=7
 42:-----&Itemid=117
END:VEVENT
END:VCALENDAR
