BEGIN:VCALENDAR
CALSCALE:GREGORIAN
METHOD:PUBLISH
PRODID:-//5.199.133.97//NONSGML iCalcreator 2.6//
VERSION:2.0
UNIQUE_ID:event743@Йога секреты
X-WR-TIMEZONE:Asia/Baku
BEGIN:VEVENT
UID:event743@Йога секреты
DTSTAMP:20260422T221644Z
CATEGORIES:Практикум
DESCRIPTION:Йогатерапия шейно-воротниковой зо
 ны\nТип события: Практикум\nСсылка: https://yog
 asecrets.ru/index.php?option=com_eventlist&view=details&id=743:---&Itemid=
 117\n
DTSTART;TZID=Asia/Baku:20140906T110000
DTEND;TZID=Asia/Baku:20140906T150000
LOCATION:Школа Каула йоги м. Семеновская\,Сем
 новская площадь\, д. 7\,Москва\,Russian Federation
SUMMARY:Йогатерапия шейно-воротниковой зоны
URL:https://yogasecrets.ru/index.php?option=com_eventlist&view=details&id=7
 43:---&Itemid=117
END:VEVENT
END:VCALENDAR
