BEGIN:VCALENDAR
CALSCALE:GREGORIAN
METHOD:PUBLISH
PRODID:-//5.199.133.97//NONSGML iCalcreator 2.6//
VERSION:2.0
UNIQUE_ID:event744@Йога секреты
X-WR-TIMEZONE:Asia/Baku
BEGIN:VEVENT
UID:event744@Йога секреты
DTSTAMP:20260422T001528Z
CATEGORIES:Практикум
DESCRIPTION:Банный день «Тотальное очищение и 
 йога» с Ильей Дунаевским\nТип события: Пр
 актикум\nСсылка: https://yogasecrets.ru/index.php?option=com_
 eventlist&view=details&id=744:--l---r---&Itemid=117\n
DTSTART;TZID=Asia/Baku:20140913T160000
DTEND;TZID=Asia/Baku:20140913T200000
LOCATION:Школа Каула йоги м. Семеновская\,Сем
 новская площадь\, д. 7\,Москва\,Russian Federation
SUMMARY:Банный день «Тотальное очищение и йо
 га» с Ильей Дунаевским
URL:https://yogasecrets.ru/index.php?option=com_eventlist&view=details&id=7
 44:--l---r---&Itemid=117
END:VEVENT
END:VCALENDAR
