BEGIN:VCALENDAR
CALSCALE:GREGORIAN
METHOD:PUBLISH
PRODID:-//5.199.133.97//NONSGML iCalcreator 2.6//
VERSION:2.0
UNIQUE_ID:event746@Йога секреты
X-WR-TIMEZONE:Asia/Baku
BEGIN:VEVENT
UID:event746@Йога секреты
DTSTAMP:20260422T001357Z
CATEGORIES:Практикум
DESCRIPTION:Каула-интенсив «Камала: энергия пр
 оцветания»\nТип события: Практикум\nСсыл
 а: https://yogasecrets.ru/index.php?option=com_eventlist&view=details&id
 =746:--l--r&Itemid=117\n
DTSTART;TZID=Asia/Baku:20140926T203000
DTEND;TZID=Asia/Baku:20140926T233000
LOCATION: Школа Каула-йоги м. Тургеневская\,Ми
 лютинский пер.\, 15\,Москва\,Russian Federation
SUMMARY:Каула-интенсив «Камала: энергия проц
 ветания»
URL:https://yogasecrets.ru/index.php?option=com_eventlist&view=details&id=7
 46:--l--r&Itemid=117
END:VEVENT
END:VCALENDAR
