BEGIN:VCALENDAR
CALSCALE:GREGORIAN
METHOD:PUBLISH
PRODID:-//5.199.133.97//NONSGML iCalcreator 2.6//
VERSION:2.0
UNIQUE_ID:event766@Йога секреты
X-WR-TIMEZONE:Asia/Baku
BEGIN:VEVENT
UID:event766@Йога секреты
DTSTAMP:20260422T001702Z
CATEGORIES:Практикум
DESCRIPTION:Завершение сезона\, йога-тур с инду
 сом по спец цене! Сочи.\nТип события: Прак
 икум\nСсылка: https://yogasecrets.ru/index.php?option=com_event
 list&view=details&id=766:---------&Itemid=117\n
DTSTART;VALUE=DATE:20140928
DTEND;VALUE=DATE:20141008
LOCATION:Йога-центр 'Дом Солнца'\,Декабристов\
 ,Сочи\, Лоо\,Russian Federation
SUMMARY:Завершение сезона\, йога-тур с индусо
 м по спец цене! Сочи.
URL:https://yogasecrets.ru/index.php?option=com_eventlist&view=details&id=7
 66:---------&Itemid=117
END:VEVENT
END:VCALENDAR
