BEGIN:VCALENDAR
CALSCALE:GREGORIAN
METHOD:PUBLISH
PRODID:-//5.199.133.97//NONSGML iCalcreator 2.6//
VERSION:2.0
UNIQUE_ID:event767@Йога секреты
X-WR-TIMEZONE:Asia/Baku
BEGIN:VEVENT
UID:event767@Йога секреты
DTSTAMP:20260422T001357Z
CATEGORIES:Практикум
DESCRIPTION:Йога-тур с Пранавом Гопалом из сем
 и брахманов! Сочи\, Лоо\nТип события: Прак
 тикум\nСсылка: https://yogasecrets.ru/index.php?option=com_even
 tlist&view=details&id=767:---------&Itemid=117\n
DTSTART;VALUE=DATE:20140918
DTEND;VALUE=DATE:20140928
LOCATION:Йога-центр 'Дом Солнца'\,Декабристов\
 ,Сочи\, Лоо\,Russian Federation
SUMMARY:Йога-тур с Пранавом Гопалом из семьи 
 брахманов! Сочи\, Лоо
URL:https://yogasecrets.ru/index.php?option=com_eventlist&view=details&id=7
 67:---------&Itemid=117
END:VEVENT
END:VCALENDAR
