BEGIN:VCALENDAR
CALSCALE:GREGORIAN
METHOD:PUBLISH
PRODID:-//5.199.133.97//NONSGML iCalcreator 2.6//
VERSION:2.0
UNIQUE_ID:event768@Йога секреты
X-WR-TIMEZONE:Asia/Baku
BEGIN:VEVENT
UID:event768@Йога секреты
DTSTAMP:20260422T221751Z
CATEGORIES:Практикум
DESCRIPTION:Йога-тур в Сочи с преподавателем и
 дусом из семьи брахманов!\nТип события: П
 рактикум\nСсылка: https://yogasecrets.ru/index.php?option=co
 m_eventlist&view=details&id=768:---------&Itemid=117\n
DTSTART;VALUE=DATE:20140908
DTEND;VALUE=DATE:20140918
LOCATION:Йога-центр 'Дом Солнца'\,Декабристов\
 ,Сочи\, Лоо\,Russian Federation
SUMMARY:Йога-тур в Сочи с преподавателем инд
 сом из семьи брахманов!
URL:https://yogasecrets.ru/index.php?option=com_eventlist&view=details&id=7
 68:---------&Itemid=117
END:VEVENT
END:VCALENDAR
