BEGIN:VCALENDAR
CALSCALE:GREGORIAN
METHOD:PUBLISH
PRODID:-//5.199.133.97//NONSGML iCalcreator 2.6//
VERSION:2.0
UNIQUE_ID:event779@Йога секреты
X-WR-TIMEZONE:Asia/Baku
BEGIN:VEVENT
UID:event779@Йога секреты
DTSTAMP:20260422T001840Z
CATEGORIES:Практикум
DESCRIPTION:Тибетская йога долголетия\, систем
 а Хуаньшанской школы ДАО\nТип события: Пр
 актикум\nСсылка: https://yogasecrets.ru/index.php?option=com_
 eventlist&view=details&id=779:------&Itemid=117\n
DTSTART;TZID=Asia/Baku:20140927T180000
DTEND;TZID=Asia/Baku:20140928T220000
LOCATION:Клуб активного долголетия: 'НИРВАНА'
 \,Бауманская д 13\,Москва\,Russian Federation
SUMMARY:Тибетская йога долголетия\, система 
 уаньшанской школы ДАО
URL:https://yogasecrets.ru/index.php?option=com_eventlist&view=details&id=7
 79:------&Itemid=117
END:VEVENT
END:VCALENDAR
