BEGIN:VCALENDAR
CALSCALE:GREGORIAN
METHOD:PUBLISH
PRODID:-//5.199.133.97//NONSGML iCalcreator 2.6//
VERSION:2.0
UNIQUE_ID:event780@Йога секреты
X-WR-TIMEZONE:Asia/Baku
BEGIN:VEVENT
UID:event780@Йога секреты
DTSTAMP:20260422T001702Z
CATEGORIES:Практикум
DESCRIPTION:День йоги: приглашаем на бесплатны
 е лекции и занятия\nТип события: Практику
 м\nСсылка: https://yogasecrets.ru/index.php?option=com_eventlist&vi
 ew=details&id=780:-------&Itemid=117\n
DTSTART;TZID=Asia/Baku:20140914T130000
DTEND;TZID=Asia/Baku:20140914T180000
LOCATION:Центр аюрведы и йоги 'Керала'\,Мичури
 нский проспект\,3\,Москва\,Russian Federation
SUMMARY:День йоги: приглашаем на бесплатные 
 екции и занятия
URL:https://yogasecrets.ru/index.php?option=com_eventlist&view=details&id=7
 80:-------&Itemid=117
END:VEVENT
END:VCALENDAR
