BEGIN:VCALENDAR
CALSCALE:GREGORIAN
METHOD:PUBLISH
PRODID:-//5.199.133.97//NONSGML iCalcreator 2.6//
VERSION:2.0
UNIQUE_ID:event794@Йога секреты
X-WR-TIMEZONE:Asia/Baku
BEGIN:VEVENT
UID:event794@Йога секреты
DTSTAMP:20260422T001759Z
CATEGORIES:Практикум
DESCRIPTION:Йога-практикум «Здоровье и красот
  ног»\nТип события: Практикум\nСсылка: https
 ://yogasecrets.ru/index.php?option=com_eventlist&view=details&id=794:--l--
 -r&Itemid=117\n
DTSTART;TZID=Asia/Baku:20141005T120000
DTEND;TZID=Asia/Baku:20141005T160000
LOCATION: Школа Каула-йоги м. Тургеневская\,Ми
 лютинский пер.\, 15\,Москва\,Russian Federation
SUMMARY:Йога-практикум «Здоровье и красота н
 ог»
URL:https://yogasecrets.ru/index.php?option=com_eventlist&view=details&id=7
 94:--l---r&Itemid=117
END:VEVENT
END:VCALENDAR
