BEGIN:VCALENDAR
CALSCALE:GREGORIAN
METHOD:PUBLISH
PRODID:-//5.199.133.97//NONSGML iCalcreator 2.6//
VERSION:2.0
UNIQUE_ID:event795@Йога секреты
X-WR-TIMEZONE:Asia/Baku
BEGIN:VEVENT
UID:event795@Йога секреты
DTSTAMP:20260422T001707Z
CATEGORIES:Практикум
DESCRIPTION:Интенсив по женским практикам 'Рад
 ость коммуникации'\nТип события: Практик
 м\nСсылка: https://yogasecrets.ru/index.php?option=com_eventlist&v
 iew=details&id=795:----q-q&Itemid=117\n
DTSTART;TZID=Asia/Baku:20141011T153000
DTEND;TZID=Asia/Baku:20141011T183000
LOCATION: Школа Каула-йоги м. Тургеневская\,Ми
 лютинский пер.\, 15\,Москва\,Russian Federation
SUMMARY:Интенсив по женским практикам 'Радос
 ть коммуникации'
URL:https://yogasecrets.ru/index.php?option=com_eventlist&view=details&id=7
 95:----q-q&Itemid=117
END:VEVENT
END:VCALENDAR
