BEGIN:VCALENDAR
CALSCALE:GREGORIAN
METHOD:PUBLISH
PRODID:-//5.199.133.97//NONSGML iCalcreator 2.6//
VERSION:2.0
UNIQUE_ID:event799@Йога секреты
X-WR-TIMEZONE:Asia/Baku
BEGIN:VEVENT
UID:event799@Йога секреты
DTSTAMP:20260422T012636Z
CATEGORIES:Практикум
DESCRIPTION:'Антистресс'. Йога-тур в Индию\nТип 
 обытия: Практикум\nСсылка: https://yogasecrets.ru/in
 dex.php?option=com_eventlist&view=details&id=799:qq----&Itemid=117\n
DTSTART;VALUE=DATE:20141117
DTEND;VALUE=DATE:20141201
LOCATION:Аюрведический центр в Керала 'Алисе
 а'\,India
SUMMARY:'Антистресс'. Йога-тур в Индию
URL:https://yogasecrets.ru/index.php?option=com_eventlist&view=details&id=7
 99:qq----&Itemid=117
END:VEVENT
END:VCALENDAR
