BEGIN:VCALENDAR
CALSCALE:GREGORIAN
METHOD:PUBLISH
PRODID:-//5.199.133.97//NONSGML iCalcreator 2.6//
VERSION:2.0
UNIQUE_ID:event800@Йога секреты
X-WR-TIMEZONE:Asia/Baku
BEGIN:VEVENT
UID:event800@Йога секреты
DTSTAMP:20260421T201619Z
CATEGORIES:Практикум
DESCRIPTION:Аюрведа-йога тур 'Снижение веса'\nТ
 п события: Практикум\nСсылка: https://yogasecrets.
 ru/index.php?option=com_eventlist&view=details&id=800:---q-q&Itemid=117\n
DTSTART;VALUE=DATE:20150126
DTEND;VALUE=DATE:20150209
LOCATION:Аюрведический центр в Керала 'Алисе
 а'\,India
SUMMARY:Аюрведа-йога тур 'Снижение веса'
URL:https://yogasecrets.ru/index.php?option=com_eventlist&view=details&id=8
 00:---q-q&Itemid=117
END:VEVENT
END:VCALENDAR
