BEGIN:VCALENDAR
CALSCALE:GREGORIAN
METHOD:PUBLISH
PRODID:-//5.199.133.97//NONSGML iCalcreator 2.6//
VERSION:2.0
UNIQUE_ID:event801@Йога секреты
X-WR-TIMEZONE:Asia/Baku
BEGIN:VEVENT
UID:event801@Йога секреты
DTSTAMP:20260421T152640Z
CATEGORIES:Практикум
DESCRIPTION:'Здоровая спина'. Йога-аюрведа тур 
  Индию\nТип события: Практикум\nСсылка: htt
 ps://yogasecrets.ru/index.php?option=com_eventlist&view=details&id=801:q-q
 -----&Itemid=117\n
DTSTART;VALUE=DATE:20150406
DTEND;VALUE=DATE:20150420
LOCATION:Аюрведический центр в Керала 'Алисе
 а'\,India
SUMMARY:'Здоровая спина'. Йога-аюрведа тур в И
 ндию
URL:https://yogasecrets.ru/index.php?option=com_eventlist&view=details&id=8
 01:q-q-----&Itemid=117
END:VEVENT
END:VCALENDAR
