BEGIN:VCALENDAR
CALSCALE:GREGORIAN
METHOD:PUBLISH
PRODID:-//5.199.133.97//NONSGML iCalcreator 2.6//
VERSION:2.0
UNIQUE_ID:event803@Йога секреты
X-WR-TIMEZONE:Asia/Baku
BEGIN:VEVENT
UID:event803@Йога секреты
DTSTAMP:20260422T001840Z
CATEGORIES:Практикум
DESCRIPTION:«Тантрическая Крия Йога»\, практич
 еские занятия Садхашивы\nТип события: Пр
 ктикум\nСсылка: https://yogasecrets.ru/index.php?option=com_e
 ventlist&view=details&id=803:l--r---&Itemid=117\n
DTSTART;TZID=Asia/Baku:20141001T100000
DTEND;TZID=Asia/Baku:20141012T210000
LOCATION:Центр аюрведы и йоги 'Керала'\,Мичури
 нский проспект\,3\,Москва\,Russian Federation
SUMMARY:«Тантрическая Крия Йога»\, практичес
 кие занятия Садхашивы
URL:https://yogasecrets.ru/index.php?option=com_eventlist&view=details&id=8
 03:l--r---&Itemid=117
END:VEVENT
END:VCALENDAR
