BEGIN:VCALENDAR
CALSCALE:GREGORIAN
METHOD:PUBLISH
PRODID:-//5.199.133.97//NONSGML iCalcreator 2.6//
VERSION:2.0
UNIQUE_ID:event820@Йога секреты
X-WR-TIMEZONE:Asia/Baku
BEGIN:VEVENT
UID:event820@Йога секреты
DTSTAMP:20260422T001356Z
CATEGORIES:Практикум
DESCRIPTION:'Универсальная йога' с Максимом Цу
 уем\nТип события: Практикум\nСсылка: https://
 yogasecrets.ru/index.php?option=com_eventlist&view=details&id=820:q-q---&I
 temid=117\n
DTSTART;TZID=Asia/Baku:20141022T203000
DTEND;TZID=Asia/Baku:20141022T220000
LOCATION:
SUMMARY:'Универсальная йога' с Максимом Цугу
 м
URL:https://yogasecrets.ru/index.php?option=com_eventlist&view=details&id=8
 20:q-q---&Itemid=117
END:VEVENT
END:VCALENDAR
