BEGIN:VCALENDAR
CALSCALE:GREGORIAN
METHOD:PUBLISH
PRODID:-//5.199.133.97//NONSGML iCalcreator 2.6//
VERSION:2.0
UNIQUE_ID:event835@Йога секреты
X-WR-TIMEZONE:Asia/Baku
BEGIN:VEVENT
UID:event835@Йога секреты
DTSTAMP:20260422T012742Z
CATEGORIES:Практикум
DESCRIPTION:Сурья Бхедан\, интенсив с учителем 
 кундалини-йоги Садхашивой\nТип события: 
 рактикум\nСсылка: https://yogasecrets.ru/index.php?option=c
 om_eventlist&view=details&id=835:-------&Itemid=117\n
DTSTART;TZID=Asia/Baku:20141108T130000
DTEND;TZID=Asia/Baku:20141109T170000
LOCATION:Центр аюрведы и йоги 'Керала'\,Мичури
 нский проспект\,3\,Москва\,Russian Federation
SUMMARY:Сурья Бхедан\, интенсив с учителем ку
 ндалини-йоги Садхашивой
URL:https://yogasecrets.ru/index.php?option=com_eventlist&view=details&id=8
 35:-------&Itemid=117
END:VEVENT
END:VCALENDAR
