BEGIN:VCALENDAR
CALSCALE:GREGORIAN
METHOD:PUBLISH
PRODID:-//5.199.133.97//NONSGML iCalcreator 2.6//
VERSION:2.0
UNIQUE_ID:event839@Йога секреты
X-WR-TIMEZONE:Asia/Baku
BEGIN:VEVENT
UID:event839@Йога секреты
DTSTAMP:20260422T013743Z
CATEGORIES:Практикум
DESCRIPTION:'Энергетические аспекты женской п
 актики йоги-2'\nТип события: Практикум\nСс
 ылка: https://yogasecrets.ru/index.php?option=com_eventlist&view=detai
 ls&id=839:q-----2q&Itemid=117\n
DTSTART;TZID=Asia/Baku:20141116T120000
DTEND;TZID=Asia/Baku:20141116T153000
LOCATION:
SUMMARY:'Энергетические аспекты женской пра
 тики йоги-2'
URL:https://yogasecrets.ru/index.php?option=com_eventlist&view=details&id=8
 39:q-----2q&Itemid=117
END:VEVENT
END:VCALENDAR
