BEGIN:VCALENDAR
CALSCALE:GREGORIAN
METHOD:PUBLISH
PRODID:-//5.199.133.97//NONSGML iCalcreator 2.6//
VERSION:2.0
UNIQUE_ID:event841@Йога секреты
X-WR-TIMEZONE:Asia/Baku
BEGIN:VEVENT
UID:event841@Йога секреты
DTSTAMP:20260422T011639Z
CATEGORIES:Практикум
DESCRIPTION:«РИСУЕМ СВОЮ ЦЕЛЕБНУЮ ЯНТРУ!»\nТип 
 события: Практикум\nСсылка: https://yogasecrets.ru/i
 ndex.php?option=com_eventlist&view=details&id=841:l---r&Itemid=117\n
DTSTART;TZID=Asia/Baku:20141115T160000
DTEND;TZID=Asia/Baku:20141115T180000
LOCATION:
SUMMARY:«РИСУЕМ СВОЮ ЦЕЛЕБНУЮ ЯНТРУ!»
URL:https://yogasecrets.ru/index.php?option=com_eventlist&view=details&id=8
 41:l---r&Itemid=117
END:VEVENT
END:VCALENDAR
