BEGIN:VCALENDAR
CALSCALE:GREGORIAN
METHOD:PUBLISH
PRODID:-//5.199.133.97//NONSGML iCalcreator 2.6//
VERSION:2.0
UNIQUE_ID:event842@Йога секреты
X-WR-TIMEZONE:Asia/Baku
BEGIN:VEVENT
UID:event842@Йога секреты
DTSTAMP:20260422T012003Z
CATEGORIES:Практикум
DESCRIPTION:«Ца Лунг»\, 2-хчасовой курс с индийс
 кий учителем Садхашивой\nТип события: Пр
 ктикум\nСсылка: https://yogasecrets.ru/index.php?option=com_e
 ventlist&view=details&id=842:l-r-2------&Itemid=117\n
DTSTART;TZID=Asia/Baku:20141116T130000
DTEND;TZID=Asia/Baku:20141116T150000
LOCATION:Центр аюрведы и йоги 'Керала'\,Мичури
 нский проспект\,3\,Москва\,Russian Federation
SUMMARY:«Ца Лунг»\, 2-хчасовой курс с индийски
 й учителем Садхашивой
URL:https://yogasecrets.ru/index.php?option=com_eventlist&view=details&id=8
 42:l-r-2------&Itemid=117
END:VEVENT
END:VCALENDAR
