BEGIN:VCALENDAR
CALSCALE:GREGORIAN
METHOD:PUBLISH
PRODID:-//5.199.133.97//NONSGML iCalcreator 2.6//
VERSION:2.0
UNIQUE_ID:event853@Йога секреты
X-WR-TIMEZONE:Asia/Baku
BEGIN:VEVENT
UID:event853@Йога секреты
DTSTAMP:20260422T012636Z
CATEGORIES:Практикум
DESCRIPTION:10 ЛЕГКИХ ВЕДИЧЕСКИХ ПРАВИЛ НА КАЖД
 ЫЙ ДЕНЬ\nТип события: Практикум\nСсылка: ht
 tps://yogasecrets.ru/index.php?option=com_eventlist&view=details&id=853:10
 ------&Itemid=117\n
DTSTART;TZID=Asia/Baku:20141115T110000
DTEND;TZID=Asia/Baku:20141115T160000
LOCATION:Клуб развития человека 'Путь счасть
 '\,Столярный пер.\,14\, оф 23\,Москва\,Russian Federa
 tion
SUMMARY:10 ЛЕГКИХ ВЕДИЧЕСКИХ ПРАВИЛ НА КАЖДЫЙ
  ДЕНЬ
URL:https://yogasecrets.ru/index.php?option=com_eventlist&view=details&id=8
 53:10------&Itemid=117
END:VEVENT
END:VCALENDAR
