BEGIN:VCALENDAR
CALSCALE:GREGORIAN
METHOD:PUBLISH
PRODID:-//5.199.133.97//NONSGML iCalcreator 2.6//
VERSION:2.0
UNIQUE_ID:event859@Йога секреты
X-WR-TIMEZONE:Asia/Baku
BEGIN:VEVENT
UID:event859@Йога секреты
DTSTAMP:20260422T012131Z
CATEGORIES:Практикум
DESCRIPTION:Мантра Лайя медитация\, семинар с у
 чителем Крия йоги Садхашив\nТип события: 
 Практикум\nСсылка: https://yogasecrets.ru/index.php?option=
 com_eventlist&view=details&id=859:--------&Itemid=117\n
DTSTART;TZID=Asia/Baku:20141123T130000
DTEND;TZID=Asia/Baku:20141123T143000
LOCATION:Центр аюрведы и йоги 'Керала'\,Мичури
 нский проспект\,3\,Москва\,Russian Federation
SUMMARY:Мантра Лайя медитация\, семинар с учи
 телем Крия йоги Садхашив
URL:https://yogasecrets.ru/index.php?option=com_eventlist&view=details&id=8
 59:--------&Itemid=117
END:VEVENT
END:VCALENDAR
