BEGIN:VCALENDAR
CALSCALE:GREGORIAN
METHOD:PUBLISH
PRODID:-//5.199.133.97//NONSGML iCalcreator 2.6//
VERSION:2.0
UNIQUE_ID:event864@Йога секреты
X-WR-TIMEZONE:Asia/Baku
BEGIN:VEVENT
UID:event864@Йога секреты
DTSTAMP:20260422T234942Z
CATEGORIES:Практикум
DESCRIPTION:Интенсив по женским практикам «Чу
 ственность» с Ю. Корниенко\nТип события: 
 Практикум\nСсылка: https://yogasecrets.ru/index.php?option=
 com_eventlist&view=details&id=864:----lr---&Itemid=117\n
DTSTART;TZID=Asia/Baku:20141206T153000
DTEND;TZID=Asia/Baku:20141206T183000
LOCATION: Школа Каула-йоги м. Тургеневская\,Ми
 лютинский пер.\, 15\,Москва\,Russian Federation
SUMMARY:Интенсив по женским практикам «Чувс
 венность» с Ю. Корниенко
URL:https://yogasecrets.ru/index.php?option=com_eventlist&view=details&id=8
 64:----lr---&Itemid=117
END:VEVENT
END:VCALENDAR
