BEGIN:VCALENDAR
CALSCALE:GREGORIAN
METHOD:PUBLISH
PRODID:-//5.199.133.97//NONSGML iCalcreator 2.6//
VERSION:2.0
UNIQUE_ID:event867@Йога секреты
X-WR-TIMEZONE:Asia/Baku
BEGIN:VEVENT
UID:event867@Йога секреты
DTSTAMP:20260422T220406Z
CATEGORIES:Практикум
DESCRIPTION:Банный день «Тотальное очищение и 
 йога» с И. Дунаевским\nТип события: Практ
 кум\nСсылка: https://yogasecrets.ru/index.php?option=com_eventli
 st&view=details&id=867:--l---r---&Itemid=117\n
DTSTART;TZID=Asia/Baku:20141220T160000
DTEND;TZID=Asia/Baku:20141220T200000
LOCATION: Школа Каула-йоги м. Тургеневская\,Ми
 лютинский пер.\, 15\,Москва\,Russian Federation
SUMMARY:Банный день «Тотальное очищение и йо
 га» с И. Дунаевским
URL:https://yogasecrets.ru/index.php?option=com_eventlist&view=details&id=8
 67:--l---r---&Itemid=117
END:VEVENT
END:VCALENDAR
