BEGIN:VCALENDAR
CALSCALE:GREGORIAN
METHOD:PUBLISH
PRODID:-//5.199.133.97//NONSGML iCalcreator 2.6//
VERSION:2.0
UNIQUE_ID:event872@Йога секреты
X-WR-TIMEZONE:Asia/Baku
BEGIN:VEVENT
UID:event872@Йога секреты
DTSTAMP:20260422T013609Z
CATEGORIES:Практикум
DESCRIPTION:Ведический астролог Сриджит Нампу
 тхири в центре «Керала»\nТип события: Пра
 ктикум\nСсылка: https://yogasecrets.ru/index.php?option=com_ev
 entlist&view=details&id=872:------lr&Itemid=117\n
DTSTART;TZID=Asia/Baku:20141126T100000
DTEND;TZID=Asia/Baku:20141230T210000
LOCATION:Центр аюрведы и йоги 'Керала'\,Мичури
 нский проспект\,3\,Москва\,Russian Federation
SUMMARY:Ведический астролог Сриджит Нампутх
 ири в центре «Керала»
URL:https://yogasecrets.ru/index.php?option=com_eventlist&view=details&id=8
 72:------lr&Itemid=117
END:VEVENT
END:VCALENDAR
