BEGIN:VCALENDAR
CALSCALE:GREGORIAN
METHOD:PUBLISH
PRODID:-//5.199.133.97//NONSGML iCalcreator 2.6//
VERSION:2.0
UNIQUE_ID:event874@Йога секреты
X-WR-TIMEZONE:Asia/Baku
BEGIN:VEVENT
UID:event874@Йога секреты
DTSTAMP:20260422T221353Z
CATEGORIES:Практикум
DESCRIPTION:Утренняя Дханвантари Пуджа от аст
 олога Сриджита Нампутхири\nТип события: 
 Практикум\nСсылка: https://yogasecrets.ru/index.php?option=
 com_eventlist&view=details&id=874:------&Itemid=117\n
DTSTART;TZID=Asia/Baku:20150106T090000
DTEND;TZID=Asia/Baku:20141206T120000
LOCATION:Центр аюрведы и йоги 'Керала'\,Мичури
 нский проспект\,3\,Москва\,Russian Federation
SUMMARY:Утренняя Дханвантари Пуджа от астро
 ога Сриджита Нампутхири
URL:https://yogasecrets.ru/index.php?option=com_eventlist&view=details&id=8
 74:------&Itemid=117
END:VEVENT
END:VCALENDAR
