BEGIN:VCALENDAR
CALSCALE:GREGORIAN
METHOD:PUBLISH
PRODID:-//5.199.133.97//NONSGML iCalcreator 2.6//
VERSION:2.0
UNIQUE_ID:event900@Йога секреты
X-WR-TIMEZONE:Asia/Baku
BEGIN:VEVENT
UID:event900@Йога секреты
DTSTAMP:20260422T233708Z
CATEGORIES:Практикум
DESCRIPTION:Новогодняя Ашта Лакшми Пуджа с вед
 ическим астрологом\nТип события: Практик
 ум\nСсылка: https://yogasecrets.ru/index.php?option=com_eventlist&
 view=details&id=900:------&Itemid=117\n
DTSTART;TZID=Asia/Baku:20141227T190000
DTEND;TZID=Asia/Baku:20141227T220000
LOCATION:Центр аюрведы и йоги 'Керала'\,Мичури
 нский проспект\,3\,Москва\,Russian Federation
SUMMARY:Новогодняя Ашта Лакшми Пуджа с ведич
 еским астрологом
URL:https://yogasecrets.ru/index.php?option=com_eventlist&view=details&id=9
 00:------&Itemid=117
END:VEVENT
END:VCALENDAR
