BEGIN:VCALENDAR
CALSCALE:GREGORIAN
METHOD:PUBLISH
PRODID:-//5.199.133.97//NONSGML iCalcreator 2.6//
VERSION:2.0
UNIQUE_ID:event901@Йога секреты
X-WR-TIMEZONE:Asia/Baku
BEGIN:VEVENT
UID:event901@Йога секреты
DTSTAMP:20260422T220417Z
CATEGORIES:Практикум
DESCRIPTION:Магическая интеллектуально-психо
 огическая игра Лила\, 24.12\nТип события: Пр
 актикум\nСсылка: https://yogasecrets.ru/index.php?option=com_
 eventlist&view=details&id=901:-----2412&Itemid=117\n
DTSTART;TZID=Asia/Baku:20141224T190000
DTEND;TZID=Asia/Baku:20141224T213000
LOCATION:Центр аюрведы и йоги 'Керала'\,Мичури
 нский проспект\,3\,Москва\,Russian Federation
SUMMARY:Магическая интеллектуально-психоло
 ическая игра Лила\, 24.12
URL:https://yogasecrets.ru/index.php?option=com_eventlist&view=details&id=9
 01:-----2412&Itemid=117
END:VEVENT
END:VCALENDAR
