BEGIN:VCALENDAR
CALSCALE:GREGORIAN
METHOD:PUBLISH
PRODID:-//5.199.133.97//NONSGML iCalcreator 2.6//
VERSION:2.0
UNIQUE_ID:event904@Йога секреты
X-WR-TIMEZONE:Asia/Baku
BEGIN:VEVENT
UID:event904@Йога секреты
DTSTAMP:20260422T233213Z
CATEGORIES:Практикум
DESCRIPTION:Индийская магическая игра самопоз
 нания ЛИЛА\nТип события: Практикум\nСсылк
 а: https://yogasecrets.ru/index.php?option=com_eventlist&view=details&id=
 904:----&Itemid=117\n
DTSTART;TZID=Asia/Baku:20150104T180000
DTEND;TZID=Asia/Baku:20150104T203000
LOCATION:Центр аюрведы и йоги 'Керала'\,Мичури
 нский проспект\,3\,Москва\,Russian Federation
SUMMARY:Индийская магическая игра самопозна
 ния ЛИЛА
URL:https://yogasecrets.ru/index.php?option=com_eventlist&view=details&id=9
 04:----&Itemid=117
END:VEVENT
END:VCALENDAR
