BEGIN:VCALENDAR
CALSCALE:GREGORIAN
METHOD:PUBLISH
PRODID:-//5.199.133.97//NONSGML iCalcreator 2.6//
VERSION:2.0
UNIQUE_ID:event913@Йога секреты
X-WR-TIMEZONE:Asia/Baku
BEGIN:VEVENT
UID:event913@Йога секреты
DTSTAMP:20260422T220250Z
CATEGORIES:Практикум
DESCRIPTION:Новогодний «Йога-марафон»\, 3-11 янв
 ря\nТип события: Практикум\nСсылка: https://yo
 gasecrets.ru/index.php?option=com_eventlist&view=details&id=913:-l-r-3-11-
 &Itemid=117\n
DTSTART;TZID=Asia/Baku:20150103T130000
DTEND;TZID=Asia/Baku:20150111T140000
LOCATION:Центр аюрведы и йоги 'Керала'\,Мичури
 нский проспект\,3\,Москва\,Russian Federation
SUMMARY:Новогодний «Йога-марафон»\, 3-11 январ
 
URL:https://yogasecrets.ru/index.php?option=com_eventlist&view=details&id=9
 13:-l-r-3-11-&Itemid=117
END:VEVENT
END:VCALENDAR
