BEGIN:VCALENDAR
CALSCALE:GREGORIAN
METHOD:PUBLISH
PRODID:-//5.199.133.97//NONSGML iCalcreator 2.6//
VERSION:2.0
UNIQUE_ID:event956@Йога секреты
X-WR-TIMEZONE:Asia/Baku
BEGIN:VEVENT
UID:event956@Йога секреты
DTSTAMP:20260421T184542Z
CATEGORIES:Практикум
DESCRIPTION:Открытое занятие по Гопьянанда йо
 е с индийским учителем\nТип события: Пра
 тикум\nСсылка: https://yogasecrets.ru/index.php?option=com_eve
 ntlist&view=details&id=956:-------&Itemid=117\n
DTSTART;TZID=Asia/Baku:20150201T130000
DTEND;TZID=Asia/Baku:20150201T143000
LOCATION:Центр аюрведы и йоги 'Керала'\,Мичури
 нский проспект\,3\,Москва\,Russian Federation
SUMMARY:Открытое занятие по Гопьянанда йоге 
 с индийским учителем
URL:https://yogasecrets.ru/index.php?option=com_eventlist&view=details&id=9
 56:-------&Itemid=117
END:VEVENT
END:VCALENDAR
