BEGIN:VCALENDAR
CALSCALE:GREGORIAN
METHOD:PUBLISH
PRODID:-//5.199.133.97//NONSGML iCalcreator 2.6//
VERSION:2.0
UNIQUE_ID:event975@Йога секреты
X-WR-TIMEZONE:Asia/Baku
BEGIN:VEVENT
UID:event975@Йога секреты
DTSTAMP:20260421T184149Z
CATEGORIES:Практикум
DESCRIPTION:Мастер-класс 'Тайлинг — промаслив
 ние в домашних условиях'\nТип события: Пр
 актикум\nСсылка: https://yogasecrets.ru/index.php?option=com_
 eventlist&view=details&id=975:--q-----q&Itemid=117\n
DTSTART;TZID=Asia/Baku:20150221T110000
DTEND;TZID=Asia/Baku:20150221T150000
LOCATION:
SUMMARY:Мастер-класс 'Тайлинг — промасливан
 е в домашних условиях'
URL:https://yogasecrets.ru/index.php?option=com_eventlist&view=details&id=9
 75:--q-----q&Itemid=117
END:VEVENT
END:VCALENDAR
