BEGIN:VCALENDAR
CALSCALE:GREGORIAN
METHOD:PUBLISH
PRODID:-//5.199.133.97//NONSGML iCalcreator 2.6//
VERSION:2.0
UNIQUE_ID:event979@Йога секреты
X-WR-TIMEZONE:Asia/Baku
BEGIN:VEVENT
UID:event979@Йога секреты
DTSTAMP:20260421T184148Z
CATEGORIES:Практикум
DESCRIPTION:Мастер-класс МАКСИМА ЦУГУЯ 'ПЕРЕВЕ
 РНУТЫЕ АСАНЫ'\nТип события: Практикум\nСс
 лка: https://yogasecrets.ru/index.php?option=com_eventlist&view=detail
 s&id=979:----q-q&Itemid=117\n
DTSTART;TZID=Asia/Baku:20150221T170000
DTEND;TZID=Asia/Baku:20150221T190000
LOCATION:
SUMMARY:Мастер-класс МАКСИМА ЦУГУЯ 'ПЕРЕВЕРН
 УТЫЕ АСАНЫ'
URL:https://yogasecrets.ru/index.php?option=com_eventlist&view=details&id=9
 79:----q-q&Itemid=117
END:VEVENT
END:VCALENDAR
