BEGIN:VCALENDAR
CALSCALE:GREGORIAN
METHOD:PUBLISH
PRODID:-//5.199.133.97//NONSGML iCalcreator 2.6//
VERSION:2.0
UNIQUE_ID:event9879@Йога секреты
X-WR-TIMEZONE:Asia/Baku
BEGIN:VEVENT
UID:event9879@Йога секреты
DTSTAMP:20260421T090456Z
CATEGORIES:Практикум
DESCRIPTION:Регулярные занятия по йогатерапии
 \nТип события: Практикум\nСсылка: https://yogasec
 rets.ru/index.php?option=com_eventlist&view=details&id=9879:---&Itemid=117
 \n
DTSTART;TZID=Asia/Baku:20150701T183000
DTEND;TZID=Asia/Baku:20150701T200000
LOCATION:Центр Восточных Оздоровительных Пр
 ктик Daowellnes\,Б. Власьевский переулок\, дом
  10\,Москва\,Russian Federation
SUMMARY:Регулярные занятия по йогатерапии
URL:https://yogasecrets.ru/index.php?option=com_eventlist&view=details&id=9
 879:---&Itemid=117
END:VEVENT
END:VCALENDAR
