BEGIN:VCALENDAR
CALSCALE:GREGORIAN
METHOD:PUBLISH
PRODID:-//5.199.133.97//NONSGML iCalcreator 2.6//
VERSION:2.0
UNIQUE_ID:event1001@Йога секреты
X-WR-TIMEZONE:Asia/Baku
BEGIN:VEVENT
UID:event1001@Йога секреты
DTSTAMP:20260421T115842Z
CATEGORIES:Путешествие
DESCRIPTION:LUXURYoga май 2015\nТип события: Путешест
 ие\nСсылка: https://yogasecrets.ru/index.php?option=com_eventlist
 &view=details&id=1001:luxuryoga--2015&Itemid=117\n
DTSTART;VALUE=DATE:20150427
DTEND;VALUE=DATE:20150512
LOCATION:Сейшелы\, о. Маэ\,Seychelles
SUMMARY:LUXURYoga май 2015
URL:https://yogasecrets.ru/index.php?option=com_eventlist&view=details&id=1
 001:luxuryoga--2015&Itemid=117
END:VEVENT
END:VCALENDAR
