BEGIN:VCALENDAR
CALSCALE:GREGORIAN
METHOD:PUBLISH
PRODID:-//5.199.133.97//NONSGML iCalcreator 2.6//
VERSION:2.0
UNIQUE_ID:event1064@Йога секреты
X-WR-TIMEZONE:Asia/Baku
BEGIN:VEVENT
UID:event1064@Йога секреты
DTSTAMP:20260421T121145Z
CATEGORIES:Путешествие
DESCRIPTION:ЙОГА-ТУР В ЧЕРНОГОРИЮ СО ШКОЛОЙ КА
 ЛА-ЙОГИ\nТип события: Путешествие\nСсылк
 : https://yogasecrets.ru/index.php?option=com_eventlist&view=details&id=1
 064:-------&Itemid=117\n
DTSTART;TZID=Asia/Baku:20150601T120000
DTEND;TZID=Asia/Baku:20150618T120000
LOCATION: Школа Каула-йоги м. Тургеневская\,Ми
 лютинский пер.\, 15\,Москва\,Russian Federation
SUMMARY:ЙОГА-ТУР В ЧЕРНОГОРИЮ СО ШКОЛОЙ КАУЛ
 -ЙОГИ
URL:https://yogasecrets.ru/index.php?option=com_eventlist&view=details&id=1
 064:-------&Itemid=117
END:VEVENT
END:VCALENDAR
