BEGIN:VCALENDAR
CALSCALE:GREGORIAN
METHOD:PUBLISH
PRODID:-//5.199.133.97//NONSGML iCalcreator 2.6//
VERSION:2.0
UNIQUE_ID:event1101@Йога секреты
X-WR-TIMEZONE:Asia/Baku
BEGIN:VEVENT
UID:event1101@Йога секреты
DTSTAMP:20260421T090945Z
CATEGORIES:Путешествие
DESCRIPTION:йога\nТип события: Путешествие\nСсы
 лка: https://yogasecrets.ru/index.php?option=com_eventlist&view=details
 &id=1101&Itemid=117\n
DTSTART;VALUE=DATE:20150615
DTEND;VALUE=DATE:20150626
LOCATION:
SUMMARY:йога
URL:https://yogasecrets.ru/index.php?option=com_eventlist&view=details&id=1
 101&Itemid=117
END:VEVENT
END:VCALENDAR
